BEGIN:VCALENDAR
VERSION:2.0
PRODID:-//CEEI Elche//EmprenemJunts//ES
BEGIN:VEVENT
UID:Evento_21262
DTSTAMP:20221128T175446Z
DTSTART:20221130T083000Z
DTEND:20221130T100000Z
SUMMARY:Financiación europea de la innovación en Medioambiente y Energía
DESCRIPTION:EUROPCA
LOCATION:Sant Vicent del Raspeig/San Vicente del Raspeig (Alicante)
URL:https://ceeielche.emprenemjunts.es/?op=14&n=21262
GEO:38.383121;-0.526374
END:VEVENT
END:VCALENDAR
