BEGIN:VCALENDAR
VERSION:2.0
PRODID:-//CEEI Elche//EmprenemJunts//ES
BEGIN:VEVENT
UID:Evento_21302
DTSTAMP:20221215T195135Z
DTSTART:20221220T113000Z
DTEND:20221220T130000Z
SUMMARY:IV edición de la gala de entrega de los Premios rePCV
DESCRIPTION:Alejandro Vesga, CEO de la revista Emprendedores, invitado principal en la IV edición de los Premios rePCV
LOCATION:Sant Vicent del Raspeig/San Vicente del Raspeig (Alicante)
URL:https://ceeielche.emprenemjunts.es/?op=14&n=21302
GEO:38.383121;-0.526374
END:VEVENT
END:VCALENDAR
