BEGIN:VCALENDAR
VERSION:2.0
PRODID:-//CEEI Elche//EmprenemJunts//ES
BEGIN:VEVENT
UID:Evento_21314
DTSTAMP:20221221T134707Z
DTSTART:20230112T090000Z
DTEND:20230112T110000Z
SUMMARY:Usando Linkedin como herramienta de ventas B2B
DESCRIPTION:STARTUP INNOVATION
LOCATION:Sant Vicent del Raspeig/San Vicente del Raspeig (Alicante)
URL:https://ceeielche.emprenemjunts.es/?op=14&n=21314
GEO:38.383121;-0.526374
END:VEVENT
END:VCALENDAR
