BEGIN:VCALENDAR
VERSION:2.0
PRODID:-//CEEI Castellón//EmprenemJunts//ES
BEGIN:VEVENT
UID:Evento_21626
DTSTAMP:20230310T173226Z
DTSTART:20230330T085000Z
DTEND:20230330T091500Z
SUMMARY:Plan de I + D + i empresarial del IVACE e impulso de la innovaciÃ³n abierta entre pymes industriales y startups
DESCRIPTION:
LOCATION:CastellÃ³ de la Plana/CastellÃ³n de la Plana (CastellÃ³n)
URL:https://ceeicastellon.emprenemjunts.es/?op=14&n=21626
GEO:-0.024387;39.983097
END:VEVENT
END:VCALENDAR
