BEGIN:VCALENDAR
VERSION:2.0
PRODID:-//CEEI Castellón//EmprenemJunts//ES
BEGIN:VEVENT
UID:Evento_21627
DTSTAMP:20230310T173705Z
DTSTART:20230330T091500Z
DTEND:20230330T093000Z
SUMMARY:Ruegos y preguntas
DESCRIPTION:
LOCATION:CastellÃ³ de la Plana/CastellÃ³n de la Plana (CastellÃ³n)
URL:https://ceeicastellon.emprenemjunts.es/?op=14&n=21627
GEO:-0.024387;39.983097
END:VEVENT
END:VCALENDAR
