BEGIN:VCALENDAR
VERSION:2.0
PRODID:-//CEEI Castellón//EmprenemJunts//ES
BEGIN:VEVENT
UID:Evento_21632
DTSTAMP:20230311T104839Z
DTSTART:20230330T093000Z
DTEND:20230330T103000Z
SUMMARY:Cita individual con IVACE
DESCRIPTION:
LOCATION:CastellÃ³ de la Plana/CastellÃ³n de la Plana (CastellÃ³n)
URL:https://ceeicastellon.emprenemjunts.es/?op=14&n=21632
GEO:-0.024387;39.983097
END:VEVENT
END:VCALENDAR
