BEGIN:VCALENDAR
VERSION:2.0
PRODID:-//Management//EmprenemJunts//ES
BEGIN:VEVENT
UID:Evento_21662
DTSTAMP:20230322T165932Z
DTSTART:20230324T103000Z
DTEND:20230324T123000Z
SUMMARY:Acuerdo ESIC-  AITEX.  Presentación de los másteres que ESIC impartirá en su campus de Alcoy
DESCRIPTION:
LOCATION:Alcoi/Alcoy (Alicante)
URL:https://management.emprenemjunts.es/?op=14&n=21662
END:VEVENT
END:VCALENDAR
