BEGIN:VCALENDAR
VERSION:2.0
PRODID:-//CEEI Valencia//EmprenemJunts//ES
BEGIN:VEVENT
UID:Evento_21683
DTSTAMP:20230330T072716Z
DTSTART:20230331T170000Z
DTEND:20230626T170000Z
SUMMARY:El Ágora del Beachworking, las XàbiaTIC para jóvenes y el Foro Crecer Innovando, novedades de la nueva programacion.
DESCRIPTION:Programación del ADL TECNOLOGICO
LOCATION:Xàbia/Jávea (Alicante)
URL:https://ceeivalencia.emprenemjunts.es/?op=14&n=21683
END:VEVENT
END:VCALENDAR
