BEGIN:VCALENDAR
VERSION:2.0
PRODID:-//CEEI Valencia//EmprenemJunts//ES
BEGIN:VEVENT
UID:Evento_21810
DTSTAMP:20230426T120650Z
DTSTART:20230914T073000Z
DTEND:20230914T093000Z
SUMMARY:Cómo dar a conocer una empresa ante los medios, cómo crear relaciones con la prensa duraderas
DESCRIPTION:
LOCATION:Valencia (Valencia)
URL:https://ceeivalencia.emprenemjunts.es/?op=14&n=21810
GEO:39.472252;-0.367720
END:VEVENT
END:VCALENDAR
