BEGIN:VCALENDAR
VERSION:2.0
PRODID:-//CEEI Elche//EmprenemJunts//ES
BEGIN:VEVENT
UID:Evento_21869
DTSTAMP:20230509T131728Z
DTSTART:20230525T080000Z
DTEND:20230525T081000Z
SUMMARY:Recepción y acreditación al evento
DESCRIPTION:
LOCATION:Alacant/Alicante (Alicante)
URL:https://ceeielche.emprenemjunts.es/?op=14&n=21869
GEO:38.385563;-0.431310
END:VEVENT
END:VCALENDAR
