BEGIN:VCALENDAR
VERSION:2.0
PRODID:-//CEEI Valencia//EmprenemJunts//ES
BEGIN:VEVENT
UID:Evento_21942
DTSTAMP:20230524T091405Z
DTSTART:20230615T073000Z
DTEND:20230615T080000Z
SUMMARY:Cómo un pequeño negocio puede aliarse con las nuevas tecnologías (incluido ChatGPT)
DESCRIPTION:
LOCATION:Xàtiva (Valencia)
URL:https://ceeivalencia.emprenemjunts.es/?op=14&n=21942
GEO:38.985733;-0.534633
END:VEVENT
END:VCALENDAR
