BEGIN:VCALENDAR
VERSION:2.0
PRODID:-//CEEI Valencia//EmprenemJunts//ES
BEGIN:VEVENT
UID:Evento_21945
DTSTAMP:20230524T091630Z
DTSTART:20230615T084000Z
DTEND:20230615T090000Z
SUMMARY:Tips para vender(se) y conseguir contactos de valor en un networking
DESCRIPTION:
LOCATION:Xàtiva (Valencia)
URL:https://ceeivalencia.emprenemjunts.es/?op=14&n=21945
GEO:38.985733;-0.534633
END:VEVENT
END:VCALENDAR
