BEGIN:VCALENDAR
VERSION:2.0
PRODID:-//CEEI Valencia//EmprenemJunts//ES
BEGIN:VEVENT
UID:Evento_22015
DTSTAMP:20230608T130423Z
DTSTART:20230627T073000Z
DTEND:20230627T120000Z
SUMMARY:Taller formativo en Tecnologías Habilitadoras
DESCRIPTION:
LOCATION:Valencia (Valencia)
URL:https://ceeivalencia.emprenemjunts.es/?op=14&n=22015
GEO:39.464157;-0.334370
END:VEVENT
END:VCALENDAR
