BEGIN:VCALENDAR
VERSION:2.0
PRODID:-//CEEI Valencia//EmprenemJunts//ES
BEGIN:VEVENT
UID:Evento_22093
DTSTAMP:20230628T084159Z
DTSTART:20230915T073000Z
DTEND:20230915T091500Z
SUMMARY:¿Nos escuchamos?
DESCRIPTION:Networking Llamp para participantes mentorizados por CEEI Valencia
LOCATION:Paterna (Valencia)
URL:https://ceeivalencia.emprenemjunts.es/?op=14&n=22093
GEO:39.548115;-0.460775
END:VEVENT
END:VCALENDAR
