BEGIN:VCALENDAR
VERSION:2.0
PRODID:-//CEEI Valencia//EmprenemJunts//ES
BEGIN:VEVENT
UID:Evento_22136
DTSTAMP:20230705T130608Z
DTSTART:20230707T073000Z
DTEND:20230707T083000Z
SUMMARY:Neuromarketing para pymes de la Ribera
DESCRIPTION:Descubre lo que piensas los consumidores, aunque no lo digan
LOCATION:Alzira (Valencia)
URL:https://ceeivalencia.emprenemjunts.es/?op=14&n=22136
GEO:39.144344;-0.431145
END:VEVENT
END:VCALENDAR
