BEGIN:VCALENDAR
VERSION:2.0
PRODID:-//CEEI Alcoy//EmprenemJunts//ES
BEGIN:VEVENT
UID:Evento_22184
DTSTAMP:20230720T095757Z
DTSTART:20230928T084000Z
DTEND:20230928T091000Z
SUMMARY:Taller práctico: cómo atraer talento en 2023
DESCRIPTION:
LOCATION:Alcoi/Alcoy (Alicante)
URL:https://ceeialcoi.emprenemjunts.es/?op=14&n=22184
GEO:38.695450;-0.473530
END:VEVENT
END:VCALENDAR
