BEGIN:VCALENDAR
VERSION:2.0
PRODID:-//CEEI Elche//EmprenemJunts//ES
BEGIN:VEVENT
UID:Evento_22219
DTSTAMP:20230807T123249Z
DTSTART:20230928T074500Z
DTEND:20230928T080000Z
SUMMARY:Recepción y acreditación de los asistentes.
DESCRIPTION:
LOCATION:Biar (Alicante)
URL:https://ceeielche.emprenemjunts.es/?op=14&n=22219
GEO:38.631630;-0.863112
END:VEVENT
END:VCALENDAR
