BEGIN:VCALENDAR
VERSION:2.0
PRODID:-//CEEI Elche//EmprenemJunts//ES
BEGIN:VEVENT
UID:Evento_22223
DTSTAMP:20230808T102732Z
DTSTART:20230928T081000Z
DTEND:20230928T084000Z
SUMMARY:Las nuevas leyes sobre sostenibilidad, el gran reto de las empresas en 2023
DESCRIPTION:
LOCATION:Biar (Alicante)
URL:https://ceeielche.emprenemjunts.es/?op=14&n=22223
GEO:38.631630;-0.863112
END:VEVENT
END:VCALENDAR
