BEGIN:VCALENDAR
VERSION:2.0
PRODID:-//CEEI Elche//EmprenemJunts//ES
BEGIN:VEVENT
UID:Evento_22224
DTSTAMP:20230808T110043Z
DTSTART:20230928T084000Z
DTEND:20230928T091500Z
SUMMARY:Inteligencia artificial ¿Quién dijo miedo?
DESCRIPTION:
LOCATION:Biar (Alicante)
URL:https://ceeielche.emprenemjunts.es/?op=14&n=22224
GEO:38.631630;-0.863112
END:VEVENT
END:VCALENDAR
