BEGIN:VCALENDAR
VERSION:2.0
PRODID:-//CEEI Elche//EmprenemJunts//ES
BEGIN:VEVENT
UID:Evento_22226
DTSTAMP:20230808T124011Z
DTSTART:20230928T091500Z
DTEND:20230928T094500Z
SUMMARY:Café Networking
DESCRIPTION:
LOCATION:Biar (Alicante)
URL:https://ceeielche.emprenemjunts.es/?op=14&n=22226
GEO:38.631630;-0.863112
END:VEVENT
END:VCALENDAR
