BEGIN:VCALENDAR
VERSION:2.0
PRODID:-//CEEI Elche//EmprenemJunts//ES
BEGIN:VEVENT
UID:Evento_22227
DTSTAMP:20230808T124334Z
DTSTART:20230928T094500Z
DTEND:20230928T103000Z
SUMMARY:Debate coloquio: ¿Cómo innovan las empresas del territorio?
DESCRIPTION:
LOCATION:Biar (Alicante)
URL:https://ceeielche.emprenemjunts.es/?op=14&n=22227
GEO:38.631630;-0.863112
END:VEVENT
END:VCALENDAR
