BEGIN:VCALENDAR
VERSION:2.0
PRODID:-//CEEI Elche//EmprenemJunts//ES
BEGIN:VEVENT
UID:Evento_22228
DTSTAMP:20230809T101754Z
DTSTART:20230928T103000Z
DTEND:20230928T110000Z
SUMMARY:Mesa redonda: Herramientas y mecanismos locales para ayudar a las empresas más innovadoras
DESCRIPTION:
LOCATION:Biar (Alicante)
URL:https://ceeielche.emprenemjunts.es/?op=14&n=22228
GEO:38.631630;-0.863112
END:VEVENT
END:VCALENDAR
