BEGIN:VCALENDAR
VERSION:2.0
PRODID:-//CEEI Valencia//EmprenemJunts//ES
BEGIN:VEVENT
UID:Evento_22373
DTSTAMP:20230927T092407Z
DTSTART:20231006T063000Z
DTEND:20231123T110000Z
SUMMARY:Formworking Gandía 2023 | Habilidades directivas
DESCRIPTION:Tres sesiones de formación impartida por profesionales relevantes del mundo empresarial y de la comunicación.
LOCATION:Gandia (Valencia)
URL:https://ceeivalencia.emprenemjunts.es/?op=14&n=22373
GEO:38.964405;-0.181937
END:VEVENT
END:VCALENDAR
