BEGIN:VCALENDAR
VERSION:2.0
PRODID:-//CEEI Valencia//EmprenemJunts//ES
BEGIN:VEVENT
UID:Evento_22401
DTSTAMP:20231003T090320Z
DTSTART:20231114T091500Z
DTEND:20231114T100000Z
SUMMARY:Transición energética en el ámbito rural - AULA 2.3 (segundo piso)
DESCRIPTION:
LOCATION:Valencia (Valencia)
URL:https://ceeivalencia.emprenemjunts.es/?op=14&n=22401
GEO:39.474270;-0.376740
END:VEVENT
END:VCALENDAR
