BEGIN:VCALENDAR
VERSION:2.0
PRODID:-//CEEI Castellón//EmprenemJunts//ES
BEGIN:VEVENT
UID:Evento_22635
DTSTAMP:20231109T100457Z
DTSTART:20231219T090000Z
DTEND:20231219T110000Z
SUMMARY:Taller 5: Soft Skills, Creatividad & Liderazgo
DESCRIPTION:5Âº taller del programa de formaciÃ³n organizado por ONDA GENERA
LOCATION:Onda (CastellÃ³n)
URL:https://ceeicastellon.emprenemjunts.es/?op=14&n=22635
GEO:39.951477;-0.180339
END:VEVENT
END:VCALENDAR
