BEGIN:VCALENDAR
VERSION:2.0
PRODID:-//Focus Pyme y Emprendimiento//EmprenemJunts//ES
BEGIN:VEVENT
UID:Evento_22678
DTSTAMP:20231117T152715Z
DTSTART:20231201T083000Z
DTEND:20231201T130000Z
SUMMARY:FOCUS Pyme y emprendimiento Comunidad Valenciana: COMUNICACIÓN EMPRESARIAL
DESCRIPTION:
LOCATION:Castelló de la Plana/Castellón de la Plana (Castellón)
URL:https://focuspyme.emprenemjunts.es/?op=14&n=22678
GEO:40.023537;-0.009821
END:VEVENT
END:VCALENDAR
