BEGIN:VCALENDAR
VERSION:2.0
PRODID:-//CEEI Castellón//EmprenemJunts//ES
BEGIN:VEVENT
UID:Evento_22685
DTSTAMP:20231117T164716Z
DTSTART:20231201T090000Z
DTEND:20231201T091500Z
SUMMARY:En la apertura contaremos con la intervenciÃ³n de:
DESCRIPTION:
LOCATION:CastellÃ³ de la Plana/CastellÃ³n de la Plana (CastellÃ³n)
URL:https://ceeicastellon.emprenemjunts.es/?op=14&n=22685
GEO:40.023537;-0.009821
END:VEVENT
END:VCALENDAR
