BEGIN:VCALENDAR
VERSION:2.0
PRODID:-//Desarrollo Local//EmprenemJunts//ES
BEGIN:VEVENT
UID:Evento_22852
DTSTAMP:20240109T085514Z
DTSTART:20240117T100000Z
DTEND:20240117T113000Z
SUMMARY:Teletrabajo para mujeres rurales y creación de redes
DESCRIPTION:
LOCATION:
URL:https://desarrollolocal.emprenemjunts.es/?op=14&n=22852
END:VEVENT
END:VCALENDAR
