BEGIN:VCALENDAR
VERSION:2.0
PRODID:-//Management//EmprenemJunts//ES
BEGIN:VEVENT
UID:Evento_23003
DTSTAMP:20240213T130004Z
DTSTART:20240229T170000Z
DTEND:20240229T193000Z
SUMMARY:Conferencia ESIC: ESG 2024. Navegando hacia el liderazgo responsable del futuro sostenible
DESCRIPTION:\"Tendencias que marcarán la agenda en el liderazgo empresarial\"
LOCATION:Valencia (Valencia)
URL:https://management.emprenemjunts.es/?op=14&n=23003
GEO:39.475780;-0.351539
END:VEVENT
END:VCALENDAR
