BEGIN:VCALENDAR
VERSION:2.0
PRODID:-//CEEI Valencia//EmprenemJunts//ES
BEGIN:VEVENT
UID:Evento_23027
DTSTAMP:20240219T092931Z
DTSTART:20230222T083000Z
DTEND:20240222T130000Z
SUMMARY:Charla ciberEMPRENDE by Draper B1
DESCRIPTION:Impulsar la ciberseguridad en las empresas
LOCATION:Alacant/Alicante (Alicante)
URL:https://ceeivalencia.emprenemjunts.es/?op=14&n=23027
END:VEVENT
END:VCALENDAR
