BEGIN:VCALENDAR
VERSION:2.0
PRODID:-//CEEI Valencia//EmprenemJunts//ES
BEGIN:VEVENT
UID:Evento_23127
DTSTAMP:20240308T021745Z
DTSTART:20240311T080000Z
DTEND:20240311T093000Z
SUMMARY:Desayuno de Networking en Valencia
DESCRIPTION:Invitación gratuita. Hacer negocios y ampliar tu red de contactos.
LOCATION:Valencia (Valencia)
URL:https://ceeivalencia.emprenemjunts.es/?op=14&n=23127
GEO:39.485439;-0.325530
END:VEVENT
END:VCALENDAR
