BEGIN:VCALENDAR
VERSION:2.0
PRODID:-//CEEI Elche//EmprenemJunts//ES
BEGIN:VEVENT
UID:Evento_23297
DTSTAMP:20240417T103648Z
DTSTART:20240529T080000Z
DTEND:20240529T090000Z
SUMMARY:Inteligencia artificial responsable
DESCRIPTION:Tercera sesión de Focus Pyme Creama Talento Digital
LOCATION:
URL:https://ceeielche.emprenemjunts.es/?op=14&n=23297
END:VEVENT
END:VCALENDAR
