BEGIN:VCALENDAR
VERSION:2.0
PRODID:-//CEEI Alcoy//EmprenemJunts//ES
BEGIN:VEVENT
UID:Evento_23454
DTSTAMP:20240527T093337Z
DTSTART:20240604T073000Z
DTEND:20240604T093000Z
SUMMARY:¿Qué tengo que hacer para tener alumnado de FP Dual en mi empresa?
DESCRIPTION:
LOCATION:Alcoi/Alcoy (Alicante)
URL:https://ceeialcoi.emprenemjunts.es/?op=14&n=23454
GEO:38.695156;-0.473517
END:VEVENT
END:VCALENDAR
