BEGIN:VCALENDAR
VERSION:2.0
PRODID:-//CEEI Valencia//EmprenemJunts//ES
BEGIN:VEVENT
UID:Evento_23457
DTSTAMP:20240527T121807Z
DTSTART:20240528T163000Z
DTEND:20240528T183000Z
SUMMARY:Mesa redonda: Cómo pasar de una idea a producto y hacerla traccionar.
DESCRIPTION:En este meetup daremos un recorrido sobre la evolución de una startup desde la fase de idea hasta cuando tracciona y crece.
LOCATION:Valencia (Valencia)
URL:https://ceeivalencia.emprenemjunts.es/?op=14&n=23457
END:VEVENT
END:VCALENDAR
