BEGIN:VCALENDAR
VERSION:2.0
PRODID:-//CEEI Valencia//EmprenemJunts//ES
BEGIN:VEVENT
UID:Evento_23506
DTSTAMP:20240610T151430Z
DTSTART:20240625T160000Z
DTEND:20240625T170000Z
SUMMARY:Mejora tu productividad con IA
DESCRIPTION:DataHub Marina de Empresas y Google te invitan a \"Mejora tu productividad con IA\", un curso gratuito del programa Google Actívate.
LOCATION:Valencia (Valencia)
URL:https://ceeivalencia.emprenemjunts.es/?op=14&n=23506
END:VEVENT
END:VCALENDAR
