BEGIN:VCALENDAR
VERSION:2.0
PRODID:-//CEEI Valencia//EmprenemJunts//ES
BEGIN:VEVENT
UID:Evento_23597
DTSTAMP:20240708T122828Z
DTSTART:20241015T080000Z
DTEND:20241015T110000Z
SUMMARY:Convierte tu idea en un negocio viable en Requena
DESCRIPTION:Emprendeaventura Rural - Ciclo de talleres para impulsar tu negocio
LOCATION:Requena (Valencia)
URL:https://ceeivalencia.emprenemjunts.es/?op=14&n=23597
GEO:39.488258;-1.101583
END:VEVENT
END:VCALENDAR
