BEGIN:VCALENDAR
VERSION:2.0
PRODID:-//CEEI Valencia//EmprenemJunts//ES
BEGIN:VEVENT
UID:Evento_23798
DTSTAMP:20240904T095644Z
DTSTART:20240910T163000Z
DTEND:20240910T183000Z
SUMMARY:Autoconocimiento y desarrollo personal a través del Eneagrama de la personalidad.
DESCRIPTION:Taller práctico Presencial
LOCATION:Valencia (Valencia)
URL:https://ceeivalencia.emprenemjunts.es/?op=14&n=23798
END:VEVENT
END:VCALENDAR
