BEGIN:VCALENDAR
VERSION:2.0
PRODID:-//CEEI Alcoy//EmprenemJunts//ES
BEGIN:VEVENT
UID:Evento_23806
DTSTAMP:20240905T094220Z
DTSTART:20240924T140000Z
DTEND:20240924T160000Z
SUMMARY:Inteligencia artificial en la industria textil
DESCRIPTION:
LOCATION:Alcoi/Alcoy (Alicante)
URL:https://ceeialcoi.emprenemjunts.es/?op=14&n=23806
GEO:38.689796;-0.497303
END:VEVENT
END:VCALENDAR
