BEGIN:VCALENDAR
VERSION:2.0
PRODID:-//CEEI Valencia//EmprenemJunts//ES
BEGIN:VEVENT
UID:Evento_23838
DTSTAMP:20240911T100725Z
DTSTART:20241216T090000Z
DTEND:20241216T093000Z
SUMMARY:Asociacionismo empresarial. Donde se gestan proyectos de éxito
DESCRIPTION:
LOCATION:Valencia (Valencia)
URL:https://ceeivalencia.emprenemjunts.es/?op=14&n=23838
GEO:39.447510;-0.392513
END:VEVENT
END:VCALENDAR
