BEGIN:VCALENDAR
VERSION:2.0
PRODID:-//CEEI Valencia//EmprenemJunts//ES
BEGIN:VEVENT
UID:Evento_23862
DTSTAMP:20240912T113931Z
DTSTART:20241210T090000Z
DTEND:20241210T113000Z
SUMMARY:Talento y Power Skills para liderar equipos y empresas
DESCRIPTION:Este encuentro SOMMOS connecta pone el foco en los líderes de las empresas (gerencia, directivos, responsables de equipos, etc.).
LOCATION:Sagunt/Sagunto (Valencia)
URL:https://ceeivalencia.emprenemjunts.es/?op=14&n=23862
GEO:39.667931;-0.216837
END:VEVENT
END:VCALENDAR
