BEGIN:VCALENDAR
VERSION:2.0
PRODID:-//CEEI Valencia//EmprenemJunts//ES
BEGIN:VEVENT
UID:Evento_23965
DTSTAMP:20241002T090953Z
DTSTART:20241212T091500Z
DTEND:20241212T100000Z
SUMMARY:El territorio los cría y ellos se juntan
DESCRIPTION:
LOCATION:Valencia (Valencia)
URL:https://ceeivalencia.emprenemjunts.es/?op=14&n=23965
GEO:39.474270;-0.376740
END:VEVENT
END:VCALENDAR
