BEGIN:VCALENDAR
VERSION:2.0
PRODID:-//CEEI Valencia//EmprenemJunts//ES
BEGIN:VEVENT
UID:Evento_23979
DTSTAMP:20241002T102735Z
DTSTART:20241017T083000Z
DTEND:20241017T120000Z
SUMMARY:Investors Day #4
DESCRIPTION:El vehículo de inversión BIOZELL VENTURES junto a BIOVAL y BIOHUB organizan este nuevo INVESTORS DAY.
LOCATION:Valencia (Valencia)
URL:https://ceeivalencia.emprenemjunts.es/?op=14&n=23979
GEO:39.457817;-0.330358
END:VEVENT
END:VCALENDAR
