BEGIN:VCALENDAR
VERSION:2.0
PRODID:-//CEEI Elche//EmprenemJunts//ES
BEGIN:VEVENT
UID:Evento_24030
DTSTAMP:20241014T104336Z
DTSTART:20241113T113000Z
DTEND:20241113T120000Z
SUMMARY:Debate coloquio: Recursos del territorio sostenibles
DESCRIPTION:
LOCATION:Pilar de la Horadada (Alicante)
URL:https://ceeielche.emprenemjunts.es/?op=14&n=24030
GEO:37.857780;-0.791885
END:VEVENT
END:VCALENDAR
