BEGIN:VCALENDAR
VERSION:2.0
PRODID:-//CEEI Valencia//EmprenemJunts//ES
BEGIN:VEVENT
UID:Evento_24161
DTSTAMP:20241111T102705Z
DTSTART:20241112T160000Z
DTEND:20241112T173000Z
SUMMARY:Ayudas a los negocios afectados por la DANA
DESCRIPTION:En qué consisten y cómo se solicitan
LOCATION:Valencia (Valencia)
URL:https://ceeivalencia.emprenemjunts.es/?op=14&n=24161
GEO:39.461899;-0.329203
END:VEVENT
END:VCALENDAR
