BEGIN:VCALENDAR
VERSION:2.0
PRODID:-//CEEI Alcoy//EmprenemJunts//ES
BEGIN:VEVENT
UID:Evento_24181
DTSTAMP:20241113T083042Z
DTSTART:20241115T123000Z
DTEND:20241115T160000Z
SUMMARY:El buscador de Google como fuente de negocio: pinceladas prácticas
DESCRIPTION:Jovempa Talks Alcoià con SEOSEMPERE
LOCATION:Alcoi/Alcoy (Alicante)
URL:https://ceeialcoi.emprenemjunts.es/?op=14&n=24181
GEO:38.698338;-0.480567
END:VEVENT
END:VCALENDAR
