BEGIN:VCALENDAR
VERSION:2.0
PRODID:-//CEEI Valencia//EmprenemJunts//ES
BEGIN:VEVENT
UID:Evento_24231
DTSTAMP:20241128T113832Z
DTSTART:20241217T103000Z
DTEND:20241217T130000Z
SUMMARY:FINANCIACIÓN Y AYUDAS PÚBLICAS: \"Innovación para la Reconstrucción y el Crecimiento\"
DESCRIPTION:Jornada Avalnet el 17 de diciembre en Valencia (CEV - Confederación Empresarial Valenciana - sede Hernán Cortés)
LOCATION:Valencia (Valencia)
URL:https://ceeivalencia.emprenemjunts.es/?op=14&n=24231
GEO:39.468739;-0.371740
END:VEVENT
END:VCALENDAR
