BEGIN:VCALENDAR
VERSION:2.0
PRODID:-//Management//EmprenemJunts//ES
BEGIN:VEVENT
UID:Evento_24247
DTSTAMP:20241202T154146Z
DTSTART:20241211T170000Z
DTEND:20241211T193000Z
SUMMARY:Jornada ESIC: Redescubre la Navidad
DESCRIPTION:Jornada gratuita. Imprescindible inscripción
LOCATION:Valencia (Valencia)
URL:https://management.emprenemjunts.es/?op=14&n=24247
GEO:39.475780;-0.351539
END:VEVENT
END:VCALENDAR
