BEGIN:VCALENDAR
VERSION:2.0
PRODID:-//CEEI Valencia//EmprenemJunts//ES
BEGIN:VEVENT
UID:Evento_24355
DTSTAMP:20250128T114642Z
DTSTART:20250217T083000Z
DTEND:20250217T103000Z
SUMMARY:Desayuno Networking Valencia
DESCRIPTION:Los EAT & MEET son encuentros empresariales donde puedes crear sinergias que aceleren y hagan crecer tu proyecto en un entorno distendido
LOCATION:Valencia (Valencia)
URL:https://ceeivalencia.emprenemjunts.es/?op=14&n=24355
GEO:39.485439;-0.325530
END:VEVENT
END:VCALENDAR
