BEGIN:VCALENDAR
VERSION:2.0
PRODID:-//CEEI Valencia//EmprenemJunts//ES
BEGIN:VEVENT
UID:Evento_24389
DTSTAMP:20250206T091428Z
DTSTART:20250226T170000Z
DTEND:20250226T210000Z
SUMMARY:Gala XVIII. Edición Premios IDEAS UPV
DESCRIPTION:Conectando el emprendimiento, impulsando el futuro. El 26 de febrero en Valencia
LOCATION:Valencia (Valencia)
URL:https://ceeivalencia.emprenemjunts.es/?op=14&n=24389
GEO:39.477245;-0.334020
END:VEVENT
END:VCALENDAR
