BEGIN:VCALENDAR
VERSION:2.0
PRODID:-//CEEI Valencia//EmprenemJunts//ES
BEGIN:VEVENT
UID:Evento_24659
DTSTAMP:20250324T124332Z
DTSTART:20250415T073000Z
DTEND:20250415T083000Z
SUMMARY:Desayuno Networking Valencia - 15 de abril
DESCRIPTION:
LOCATION:Valencia (Valencia)
URL:https://ceeivalencia.emprenemjunts.es/?op=14&n=24659
GEO:39.485439;-0.325530
END:VEVENT
END:VCALENDAR
